BEGIN:VCALENDAR
VERSION:2.0
PRODID:-//Coopérative Jardin Albecq - ECPv6.15.13.1//NONSGML v1.0//EN
CALSCALE:GREGORIAN
METHOD:PUBLISH
X-ORIGINAL-URL:https://albecq.be
X-WR-CALDESC:Évènements pour Coopérative Jardin Albecq
REFRESH-INTERVAL;VALUE=DURATION:PT1H
X-Robots-Tag:noindex
X-PUBLISHED-TTL:PT1H
BEGIN:VTIMEZONE
TZID:Europe/Brussels
BEGIN:DAYLIGHT
TZOFFSETFROM:+0100
TZOFFSETTO:+0200
TZNAME:CEST
DTSTART:20210328T010000
END:DAYLIGHT
BEGIN:STANDARD
TZOFFSETFROM:+0200
TZOFFSETTO:+0100
TZNAME:CET
DTSTART:20211031T010000
END:STANDARD
BEGIN:DAYLIGHT
TZOFFSETFROM:+0100
TZOFFSETTO:+0200
TZNAME:CEST
DTSTART:20220327T010000
END:DAYLIGHT
BEGIN:STANDARD
TZOFFSETFROM:+0200
TZOFFSETTO:+0100
TZNAME:CET
DTSTART:20221030T010000
END:STANDARD
BEGIN:DAYLIGHT
TZOFFSETFROM:+0100
TZOFFSETTO:+0200
TZNAME:CEST
DTSTART:20230326T010000
END:DAYLIGHT
BEGIN:STANDARD
TZOFFSETFROM:+0200
TZOFFSETTO:+0100
TZNAME:CET
DTSTART:20231029T010000
END:STANDARD
END:VTIMEZONE
BEGIN:VEVENT
DTSTART;TZID=Europe/Brussels:20220916T200000
DTEND;TZID=Europe/Brussels:20220916T230000
DTSTAMP:20260421T114743
CREATED:20220624T155028Z
LAST-MODIFIED:20220913T191152Z
UID:1091-1663358400-1663369200@albecq.be
SUMMARY:Pied de biche
DESCRIPTION:Vendredi 16 septembre – Accueil dès 20h – Séance à 20h30 – Durée 1h20« Pied de biche »\, par Matthieu Quillet« Pied de biche » ouvre sur des possibles. Au premier abord\, le film restitue la manière dont des collectifs\, inscrits dans la mouvance libertaire\, créent\, fabriquent\, pensent et luttent depuis un territoire\, ici une ville moyenne française : Dijon. Film militant\, soit. Mais pas que. « Pied de biche » donne aussi à voir une géographie des luttes. En « quelques éclats de vie par effraction » s’expose une dynamique alternative en milieu urbain\, une autre manière de faire la ville\, de vivre sur un territoire. Du maraîchage à l’accueil de migrants\, un ensemble de pratiques deviennent alors outils politiques et inventent un savoir-habiter où le lien à l’autre et à l’espace prennent une toute autre épaisseur. \n\n\n\nLa projection sera suivie d’une discussion. \n\n\n\nPossibilité de boire un verre avant et/ou après la séance \n\n\n\n\n\n\n\n\n\nRéservations:\n\n\n\n\n  \n\n\n\n\n\n\n\n\n\n\n\n\n\n\n\n\n\n\n\n\n\n\n  \n    \n      \n        \n          \n            Nom*\n              Saisissez votre nom complet \n            \n          \n        \n      \n      \n        \n          \n            Email*\n              Saisissez un courriel valide \n            \n          \n        \n      \n      \n        \n          \n            Numero de tél:\n               \n            \n          \n        \n      \n    \n    \n      \n        \n          \n            Nombre de places souhaitées*\n               \n            \n          \n        \n      \n      \n        \n          \n            Votre Message\n              Saisissez un message bref
URL:https://albecq.be/evenements/pied-de-biche/
LOCATION:Le champ des possibles\, J47M+76 Braine-le-Comte\, Belgique\, Belgique
CATEGORIES:Cycle de documentaires sur les luttes de territoire
ATTACH;FMTTYPE=image/jpeg:https://albecq.be/wp-content/uploads/2022/06/Pied-de-biche.jpg
END:VEVENT
BEGIN:VEVENT
DTSTART;TZID=Europe/Brussels:20220819T200000
DTEND;TZID=Europe/Brussels:20220819T230000
DTSTAMP:20260421T114743
CREATED:20220624T152640Z
LAST-MODIFIED:20220624T155148Z
UID:1078-1660939200-1660950000@albecq.be
SUMMARY:Tous au Larzac
DESCRIPTION:Vendredi 19 aout – Accueil dès 20h – Séance à 20h30 – Durée 1h42« Tous au Larzac »\, réalisé par Christan RouaudMarizette\, Christiane\, Pierre\, Léon\, José\, paysans du Larzac\, luttent contre l’Etat pour sauver leurs terres. Un combat déterminé et joyeux\, mais parfois aussi éprouvant et périlleux. Tout commence en 1971\, lorsque le gouvernement\, par la voix de son ministre de la Défense Michel Debré\, déclare que le camp militaire du Larzac doit s’étendre. Radicale\, la colère se répand comme une trainée de poudre\, les paysans se mobilisent et signent un serment : jamais ils ne cèderont leurs terres. \n\n\n\n\n\n\n\n\n\nRéservations:\n\n\n\n\n  \n\n\n\n\n\n\n\n\n\n\n\n\n\n\n\n\n\n\n\n\n\n\n  \n    \n      \n        \n          \n            Nom*\n              Saisissez votre nom complet \n            \n          \n        \n      \n      \n        \n          \n            Email*\n              Saisissez un courriel valide \n            \n          \n        \n      \n      \n        \n          \n            Numero de tél:\n               \n            \n          \n        \n      \n    \n    \n      \n        \n          \n            Nombre de places souhaitées*\n               \n            \n          \n        \n      \n      \n        \n          \n            Votre Message\n              Saisissez un message bref
URL:https://albecq.be/evenements/tous-au-larzac/
LOCATION:Le champ des possibles\, J47M+76 Braine-le-Comte\, Belgique\, Belgique
CATEGORIES:Cycle de documentaires sur les luttes de territoire
ATTACH;FMTTYPE=image/jpeg:https://albecq.be/wp-content/uploads/2022/06/TousAuLarzac.jpg
END:VEVENT
BEGIN:VEVENT
DTSTART;TZID=Europe/Brussels:20220715T200000
DTEND;TZID=Europe/Brussels:20220715T230000
DTSTAMP:20260421T114743
CREATED:20220624T152450Z
LAST-MODIFIED:20220712T164654Z
UID:1076-1657915200-1657926000@albecq.be
SUMMARY:...et pour quelques HECTARES de plus
DESCRIPTION:Vendredi 15 juillet – Accueil dès 20h – Séance à 20h30 – Durée 1h13« Et pour quelques hectares de plus »\, par Nicolas VescovacciChaque année en France\, 60 000 hectares de terres agricoles disparaissent sous du béton. Un phénomène qui a tendance à s’accélérer et dont les impacts sociaux\, économiques et environnementaux sont loin d’être négligeables. \n\n\n\n\n\n\n\n\n\nRéservations:\n\n\n\n\n  \n\n\n\n\n\n\n\n\n\n\n\n\n\n\n\n\n\n\n\n\n\n\n  \n    \n      \n        \n          \n            Nom*\n              Saisissez votre nom complet \n            \n          \n        \n      \n      \n        \n          \n            Email*\n              Saisissez un courriel valide \n            \n          \n        \n      \n      \n        \n          \n            Numero de tél:\n               \n            \n          \n        \n      \n    \n    \n      \n        \n          \n            Nombre de places souhaitées*\n               \n            \n          \n        \n      \n      \n        \n          \n            Votre Message\n              Saisissez un message bref
URL:https://albecq.be/evenements/et-pour-quelques-hectares-de-plus/
LOCATION:Le champ des possibles\, J47M+76 Braine-le-Comte\, Belgique\, Belgique
CATEGORIES:Cycle de documentaires sur les luttes de territoire
ATTACH;FMTTYPE=image/jpeg:https://albecq.be/wp-content/uploads/2022/06/etpourquelquesHECTAREdeplus.jpg
END:VEVENT
BEGIN:VEVENT
DTSTART;TZID=Europe/Brussels:20220710T140000
DTEND;TZID=Europe/Brussels:20220710T180000
DTSTAMP:20260421T114743
CREATED:20220626T072210Z
LAST-MODIFIED:20220703T101122Z
UID:1102-1657461600-1657476000@albecq.be
SUMMARY:Les Donz'ailes / Contes Kamishibaï  / jazz
DESCRIPTION:C’est reparti pour un tour! Nous vous invitons le 10 juillet pour passer une après-midi en famille et en musique sur le Jardin Albecq. \n\n\n\n*** AU PROGRAMME ***13h Ouverture14h les Donz’ailes (chanson française)Un peu de légèrté\, de profondeur\, zeste de glammour et beaucoup d’humour…15h Contes Kamishibaï par les Bulles d’Albane (théâtre pour enfants)Les Bulles d’Albane sont des histoires à travers lesquelles la petite Albane survole la furie du monde avec son regard d’enfant.Histoire écrites par Oriane Philippe\, illustrées par des illustratrices francophones et racontées en vélo kamishibaï.\n\n\n\n16h Silly Swing (Swing & Jazz Européen)Ils viendront jouer dans leurs nouvelle configuration « Hot Club »\, en quatuor.Amoureux du swing et du jazz européen du début du XXeme siècle\, Silly Swing vous emmène joyeusement dans le répertoire mythique de cet époque\, sur les traces de de Django Reinhardt\, Stéphane Grapelli & Hubert Rostaing.\n\n\n\n*** INFOS ***Gratuit!spectacle et concerts tout public (concerts acoustiques ou semi-acoustiques)Bar et toilettes sèches sur place \n\n\n\n\n\n\n\n\n\n\nContes Kamishibaï théâtre pour enfants\n\n\n\nSilly Swing
URL:https://albecq.be/evenements/les-donzailes-contes-kamishibai-jazz/
LOCATION:Jardin Albecq\, Rue Fernand Bottemanne 1-9\, Braine-le-Comte\, 7090\, Belgique
CATEGORIES:Fêtes
ATTACH;FMTTYPE=image/png:https://albecq.be/wp-content/uploads/2022/06/visu-FB-10-Juillet.png
END:VEVENT
BEGIN:VEVENT
DTSTART;TZID=Europe/Brussels:20220617T200000
DTEND;TZID=Europe/Brussels:20220617T230000
DTSTAMP:20260421T114743
CREATED:20220523T132516Z
LAST-MODIFIED:20220523T134222Z
UID:917-1655496000-1655506800@albecq.be
SUMMARY:« La bataille de l’eau noire »\, par Benjamin Hennot
DESCRIPTION:Durée 1h15 – Accueil à 20h – Séance à 20h30 \n\n\n\nBelgique\, 1978. Le Ministre des Travaux publics projette un immense barrage dans la vallée de l’Eau Noire\, en amont de la petite ville de Couvin. Mais les habitants se transforment en de fiers Irréductibles et livrent une flamboyante guérilla… Un film choral qui communique la joie et la force d’un mouvement populaire en tous points exemplaire. \n\n\n\n\n\n\n\n\n\nRéservations:\n\n\n\n\n  \n\n\n\n\n\n\n\n\n\n\n\n\n\n\n\n\n\n\n\n\n\n\n  \n    \n      \n        \n          \n            Nom*\n              Saisissez votre nom complet \n            \n          \n        \n      \n      \n        \n          \n            Email*\n              Saisissez un courriel valide \n            \n          \n        \n      \n      \n        \n          \n            Numero de tél:\n               \n            \n          \n        \n      \n    \n    \n      \n        \n          \n            Nombre de places souhaitées*\n               \n            \n          \n        \n      \n      \n        \n          \n            Votre Message\n              Saisissez un message bref
URL:https://albecq.be/evenements/la-bataille-de-leau-noire-par-benjamin-hennot/
LOCATION:Le champ des possibles\, J47M+76 Braine-le-Comte\, Belgique\, Belgique
CATEGORIES:Cycle de documentaires sur les luttes de territoire
ATTACH;FMTTYPE=image/jpeg:https://albecq.be/wp-content/uploads/2022/05/la_bataille_de_leau_noire_800-768x1086-1.jpg
END:VEVENT
BEGIN:VEVENT
DTSTART;TZID=Europe/Brussels:20220606T140000
DTEND;TZID=Europe/Brussels:20220606T190000
DTSTAMP:20260421T114743
CREATED:20220523T160337Z
LAST-MODIFIED:20220523T162341Z
UID:1004-1654524000-1654542000@albecq.be
SUMMARY:Match d'impro / Les Fanfoireux /  Clover Stompers
DESCRIPTION:Dans le cadre de notre campagne de levée de fonds pour faire du Jardin Albecq une propriété collective\, nous vous invitons à venir discuter\, rire et danser avec nous le lundi 6 juin! \n\n\n\n\n\n\n\n\n\n\n\nAU PROGRAMME\n\n\n\n14h00 – Ouverture14h30 – Clover Stompers (musique traditionnelle québécoise et irlandaise) https://www.facebook.com/Cloverstompers15h30 – Match d’impro par les groupes « ImproBraine » et « Caméléons de Mons »17h00 – Les Fanfoireux – fanfare bruxelloise(Afro-brazilio-Colombian Creolified Esperanto!) https://www.facebook.com/lesfanfoireux\n\n\n\n\n\n\n\n\n\n\n\nINFOS\n\n\n\nspectacle d’impro et concerts tout public (concerts acoustiques ou semi-acoustiques)Bar et toilettes sèches sur place
URL:https://albecq.be/evenements/match-dimpro-les-fanfoireux-clover-stompers/
LOCATION:Jardin Albecq\, Rue Fernand Bottemanne 1-9\, Braine-le-Comte\, 7090\, Belgique
CATEGORIES:Fêtes
ATTACH;FMTTYPE=image/jpeg:https://albecq.be/wp-content/uploads/2022/05/279292209_508588740966299_6469198854571167933_n.jpg
END:VEVENT
BEGIN:VEVENT
DTSTART;TZID=Europe/Brussels:20220525T203000
DTEND;TZID=Europe/Brussels:20220525T230000
DTSTAMP:20260421T114743
CREATED:20220523T135635Z
LAST-MODIFIED:20220523T140227Z
UID:991-1653510600-1653519600@albecq.be
SUMMARY:1ère rencontre et dégustation de la bière "Albecq"
DESCRIPTION:Vous avez encore des questions sur la coopérative et avez envie d’en discuter avec nous? \n\n\n\nPar exemple : \n\n\n\nQuel engagement implique le fait de devenir coopérateur?Que devient l’argent si nous n’arrivons pas à acheter le terrain?Le promoteur va-t-il surenchérir? Si oui\, à quoi bon ?Puis-je prendre une part pour une personne en dessous de 18 ans?L’objectif est-il en contradiction avec celui de densifier les centres urbains?\n\n\n\nVous souhaitez nous apporter de l’aide (porte-à-porte\, tenue de stands\, etc) pour extirper le Jardin Albecq des griffes de Sotraba? \n\n\n\n\n\n \n\n\n\nCette soirée sera l’occasion de vous offrir une bière Albecq (une bière brassée spécialement en soutien à la coopérative!) mais aussi de mettre des visages sur le jardin Albecq\, de façonner notre imaginaire de notre jardin citoyen\, écologique et éducatif\, de répondre à toutes vos questions et de recueillir toutes vos suggestions pour faire avancer la levée de fonds. \n\n\n\nMerci de confirmer votre présence via le formulaire ci-dessous \n\n\n\nCette rencontre n’est que la première\, d’autres seront prévues. Si vous n’êtes pas disponible à cette date mais souhaitez nous rencontrer lors d’une prochaine rencontre\, faites-le nous savoir également. \n\n\n\n\n\n\n\n\n\nRéservations:\n\n\n\n\n  \n\n\n\n\n\n\n\n\n\n\n\n\n\n\n\n\n\n\n\n\n\n\n  \n    \n      \n        \n          \n            Nom*\n              Saisissez votre nom complet \n            \n          \n        \n      \n      \n        \n          \n            Email*\n              Saisissez un courriel valide \n            \n          \n        \n      \n      \n        \n          \n            Numero de tél:\n               \n            \n          \n        \n      \n    \n    \n      \n        \n          \n            Nombre de places souhaitées*\n               \n            \n          \n        \n      \n      \n        \n          \n            Votre Message\n              Saisissez un message bref
URL:https://albecq.be/evenements/1ere-rencontre-et-degustation-de-la-biere-albecq/
LOCATION:Le champ des possibles\, J47M+76 Braine-le-Comte\, Belgique\, Belgique
CATEGORIES:Rencotres et débats
ATTACH;FMTTYPE=image/jpeg:https://albecq.be/wp-content/uploads/2022/05/20220516_171112-scaled.jpg
END:VEVENT
BEGIN:VEVENT
DTSTART;TZID=Europe/Brussels:20220520T200000
DTEND;TZID=Europe/Brussels:20220520T213000
DTSTAMP:20260421T114743
CREATED:20220501T084551Z
LAST-MODIFIED:20220523T134039Z
UID:825-1653076800-1653082200@albecq.be
SUMMARY:« Notre dame des luttes »\, réalisé par Jean-François Castell
DESCRIPTION:Durée 53 minutes – Accueil à 20h – Séance à 20h30 \nÀ l’automne 2012\, le documentariste Jean-François Castell a passé trois semaines au cœur de la « zone à défendre » (ZAD) de Notre-Dame-des-Landes et nous livre son regard « à hauteur d’homme » sur cette lutte qui a pris une ampleur exceptionnelle depuis le début de la répression policière\, le 16 octobre et surtout avec la manifestation de réoccupation du 17 novembre. À visage découvert\, les activistes venus de partout décrivent cette « fraternité » qu’ils ont trouvé dans l’organisation autonome de cette lutte. \nPossibilité de prendre un verre avant et/ou après la séancePour évaluer les capacités d’accueil de la salle\, confirmez votre présence via le formulaire ci-dessous. \n \n\n\n\n\n\n\n\n\nRéservations:\n\n\n\n\n  \n\n\n\n\n\n\n\n\n\n\n\n\n\n\n\n\n\n\n\n\n\n\n  \n    \n      \n        \n          \n            Nom*\n              Saisissez votre nom complet \n            \n          \n        \n      \n      \n        \n          \n            Email*\n              Saisissez un courriel valide \n            \n          \n        \n      \n      \n        \n          \n            Numero de tél:\n               \n            \n          \n        \n      \n    \n    \n      \n        \n          \n            Nombre de places souhaitées*\n               \n            \n          \n        \n      \n      \n        \n          \n            Votre Message\n              Saisissez un message bref
URL:https://albecq.be/evenements/notre-dame-des-luttes-realise-par-jean-francois-castell/
LOCATION:Le champ des possibles\, J47M+76 Braine-le-Comte\, Belgique\, Belgique
CATEGORIES:Cycle de documentaires sur les luttes de territoire
ATTACH;FMTTYPE=image/jpeg:https://albecq.be/wp-content/uploads/2022/05/bad778e05e7eda1e5d75f25ed277f9b4.jpg
END:VEVENT
BEGIN:VEVENT
DTSTART;TZID=Europe/Brussels:20220501T140000
DTEND;TZID=Europe/Brussels:20220501T180000
DTSTAMP:20260421T114743
CREATED:20220501T094312Z
LAST-MODIFIED:20220501T094736Z
UID:842-1651413600-1651428000@albecq.be
SUMMARY:fête du 1er mai du Jardin Albecq
DESCRIPTION:A l’occasion de la sortie du 2ème numéro de notre gazette citoyenne\, la Goutte (de Trop)\, le collectif Jardin Albecq vous invite à une après-midi familiale et festive le dimanche 1er mai de 14h à 18h!\nCe sera aussi l’occasion de parler de l’avancement de la levée de fonds pour préserver cet espace magnifique\, et de ce que vous pouvez faire pour nous y aider.\n\n\nAU PROGRAMME \n\npour les enfants : \n\nBalade familiale à dos d’ânes\nJeux et activités pour enfants\nDépart avec les ânes à pied le dimanche à 13h30 d’Ecaussinnes au chemin aux loups\, 7\nbalade d’approximativement 1h pour arriver au jardin Albecq \, merci de nous contacter pour confirmer votre participation à la balade au +32495 / 50 75 93\nDes navettes seront prévues pour le retour au point de départ.\nLes enfants doivent être accompagnés d’un adulte\n\npour les grands :\n\nVenez récupérer votre exemplaire de la Goutte (de Trop) à partir de 14h30 et nous aider à la distribuer à Braine\n\nBar et toilettes sèches sur place\nNous aurons des parasols s’il fait trop chaud et des tonnelles s’il pleut\, venez avec votre bonne humeur!
URL:https://albecq.be/evenements/fete-du-1er-mai-du-jardin-albecq/
LOCATION:Jardin Albecq\, Rue Fernand Bottemanne 1-9\, Braine-le-Comte\, 7090\, Belgique
CATEGORIES:Fêtes
ATTACH;FMTTYPE=image/png:https://albecq.be/wp-content/uploads/2022/05/visu1erMai.png
END:VEVENT
END:VCALENDAR